BEGIN:VCALENDAR
VERSION:2.0
PRODID:-//S.V. 't Harde - ECPv6.15.20//NONSGML v1.0//EN
CALSCALE:GREGORIAN
METHOD:PUBLISH
X-WR-CALNAME:S.V. 't Harde
X-ORIGINAL-URL:https://www.svtharde.nl
X-WR-CALDESC:Evenementen voor S.V. 't Harde
REFRESH-INTERVAL;VALUE=DURATION:PT1H
X-Robots-Tag:noindex
X-PUBLISHED-TTL:PT1H
BEGIN:VTIMEZONE
TZID:Europe/Amsterdam
BEGIN:DAYLIGHT
TZOFFSETFROM:+0100
TZOFFSETTO:+0200
TZNAME:CEST
DTSTART:20250330T010000
END:DAYLIGHT
BEGIN:STANDARD
TZOFFSETFROM:+0200
TZOFFSETTO:+0100
TZNAME:CET
DTSTART:20251026T010000
END:STANDARD
BEGIN:DAYLIGHT
TZOFFSETFROM:+0100
TZOFFSETTO:+0200
TZNAME:CEST
DTSTART:20260329T010000
END:DAYLIGHT
BEGIN:STANDARD
TZOFFSETFROM:+0200
TZOFFSETTO:+0100
TZNAME:CET
DTSTART:20261025T010000
END:STANDARD
BEGIN:DAYLIGHT
TZOFFSETFROM:+0100
TZOFFSETTO:+0200
TZNAME:CEST
DTSTART:20270328T010000
END:DAYLIGHT
BEGIN:STANDARD
TZOFFSETFROM:+0200
TZOFFSETTO:+0100
TZNAME:CET
DTSTART:20271031T010000
END:STANDARD
END:VTIMEZONE
BEGIN:VEVENT
DTSTART;TZID=Europe/Amsterdam:20260417T060000
DTEND;TZID=Europe/Amsterdam:20260417T160000
DTSTAMP:20260423T012911
CREATED:20260318T074241Z
LAST-MODIFIED:20260318T074300Z
UID:70961-1776405600-1776441600@www.svtharde.nl
SUMMARY:Koningsspelen
DESCRIPTION:
URL:https://www.svtharde.nl/evenement/koningsspelen/
LOCATION:’t Harde\, Sportpark Schenk\, Bovenweg 8\, 't Harde\, Gelderland\, 8084 PB\, Nederland
CATEGORIES:Algemeen,Feest
ORGANIZER;CN="Stichting Wiel":MAILTO:info@wiel.nl
END:VEVENT
BEGIN:VEVENT
DTSTART;TZID=Europe/Amsterdam:20260416T194500
DTEND;TZID=Europe/Amsterdam:20260416T223000
DTSTAMP:20260423T012911
CREATED:20250614T075510Z
LAST-MODIFIED:20250614T075510Z
UID:68328-1776368700-1776378600@www.svtharde.nl
SUMMARY:Klaverjassen
DESCRIPTION:Klaverjassen in de gezellige kantine aan de Bovenweg 8 in ’t Harde.Aanvang 19:45 uur.Nieuwe leden zijn ook dan weer van harte welkom.Nadere inlichtingen bij Peter van der Burg tel. 06 11300750 of Gert Drost tel. 038 8506316.
URL:https://www.svtharde.nl/evenement/klaverjassen-124/
LOCATION:’t Harde\, Sportpark Schenk\, Bovenweg 8\, 't Harde\, Gelderland\, 8084 PB\, Nederland
CATEGORIES:Klaverjassen
ORGANIZER;CN="Klaverjasclub S.V. 't Harde":MAILTO:klaverjasvereniging@svtharde.nl
END:VEVENT
BEGIN:VEVENT
DTSTART;TZID=Europe/Amsterdam:20260416T100000
DTEND;TZID=Europe/Amsterdam:20260416T110000
DTSTAMP:20260423T012911
CREATED:20250614T091143Z
LAST-MODIFIED:20250614T091143Z
UID:68481-1776333600-1776337200@www.svtharde.nl
SUMMARY:Walking Football
DESCRIPTION:
URL:https://www.svtharde.nl/evenement/walking-football-49/
LOCATION:’t Harde\, Sportpark Schenk\, Bovenweg 8\, 't Harde\, Gelderland\, 8084 PB\, Nederland
CATEGORIES:Algemeen
ORGANIZER;CN="S.V. 't Harde":MAILTO:info@svtharde.nl
END:VEVENT
BEGIN:VEVENT
DTSTART;TZID=Europe/Amsterdam:20260411T143000
DTEND;TZID=Europe/Amsterdam:20260411T161500
DTSTAMP:20260423T012911
CREATED:20250614T083954Z
LAST-MODIFIED:20250820T130755Z
UID:68397-1775917800-1775924100@www.svtharde.nl
SUMMARY:SV 't Harde - SEH (competitie)
DESCRIPTION:competitieronde 21
URL:https://www.svtharde.nl/evenement/sv-t-harde-xxx-competitie-43/
LOCATION:’t Harde\, Sportpark Schenk\, Bovenweg 8\, 't Harde\, Gelderland\, 8084 PB\, Nederland
CATEGORIES:1e elftal
ATTACH;FMTTYPE=image/png:https://www.svtharde.nl/wp-content/uploads/2017/11/Naamloos.png
END:VEVENT
BEGIN:VEVENT
DTSTART;TZID=Europe/Amsterdam:20260411T100000
DTEND;TZID=Europe/Amsterdam:20260411T110000
DTSTAMP:20260423T012911
CREATED:20250614T090910Z
LAST-MODIFIED:20251204T065304Z
UID:68443-1775901600-1775905200@www.svtharde.nl
SUMMARY:Voetbalschool 4-7 jaar
DESCRIPTION:
URL:https://www.svtharde.nl/evenement/voetbalschool-3-7-jaar-49/
LOCATION:’t Harde\, Sportpark Schenk\, Bovenweg 8\, 't Harde\, Gelderland\, 8084 PB\, Nederland
CATEGORIES:Algemeen
ORGANIZER;CN="S.V. 't Harde":MAILTO:info@svtharde.nl
END:VEVENT
BEGIN:VEVENT
DTSTART;TZID=Europe/Amsterdam:20260410T200000
DTEND;TZID=Europe/Amsterdam:20260410T233000
DTSTAMP:20260423T012911
CREATED:20260204T201220Z
LAST-MODIFIED:20260204T201220Z
UID:70649-1775851200-1775863800@www.svtharde.nl
SUMMARY:Voetbal pubquiz
DESCRIPTION:
URL:https://www.svtharde.nl/evenement/voetbal-pubquiz/
LOCATION:’t Harde\, Sportpark Schenk\, Bovenweg 8\, 't Harde\, Gelderland\, 8084 PB\, Nederland
ORGANIZER;CN="S.V. 't Harde":MAILTO:info@svtharde.nl
END:VEVENT
BEGIN:VEVENT
DTSTART;TZID=Europe/Amsterdam:20260409T194500
DTEND;TZID=Europe/Amsterdam:20260409T223000
DTSTAMP:20260423T012911
CREATED:20250614T075507Z
LAST-MODIFIED:20250614T075507Z
UID:68327-1775763900-1775773800@www.svtharde.nl
SUMMARY:Klaverjassen
DESCRIPTION:Klaverjassen in de gezellige kantine aan de Bovenweg 8 in ’t Harde.Aanvang 19:45 uur.Nieuwe leden zijn ook dan weer van harte welkom.Nadere inlichtingen bij Peter van der Burg tel. 06 11300750 of Gert Drost tel. 038 8506316.
URL:https://www.svtharde.nl/evenement/klaverjassen-123/
LOCATION:’t Harde\, Sportpark Schenk\, Bovenweg 8\, 't Harde\, Gelderland\, 8084 PB\, Nederland
CATEGORIES:Klaverjassen
ORGANIZER;CN="Klaverjasclub S.V. 't Harde":MAILTO:klaverjasvereniging@svtharde.nl
END:VEVENT
BEGIN:VEVENT
DTSTART;TZID=Europe/Amsterdam:20260409T100000
DTEND;TZID=Europe/Amsterdam:20260409T110000
DTSTAMP:20260423T012911
CREATED:20250614T091143Z
LAST-MODIFIED:20250614T091143Z
UID:68480-1775728800-1775732400@www.svtharde.nl
SUMMARY:Walking Football
DESCRIPTION:
URL:https://www.svtharde.nl/evenement/walking-football-48/
LOCATION:’t Harde\, Sportpark Schenk\, Bovenweg 8\, 't Harde\, Gelderland\, 8084 PB\, Nederland
CATEGORIES:Algemeen
ORGANIZER;CN="S.V. 't Harde":MAILTO:info@svtharde.nl
END:VEVENT
BEGIN:VEVENT
DTSTART;TZID=Europe/Amsterdam:20260404T100000
DTEND;TZID=Europe/Amsterdam:20260404T110000
DTSTAMP:20260423T012911
CREATED:20250614T090910Z
LAST-MODIFIED:20251204T065309Z
UID:68442-1775296800-1775300400@www.svtharde.nl
SUMMARY:Voetbalschool 4-7 jaar
DESCRIPTION:
URL:https://www.svtharde.nl/evenement/voetbalschool-3-7-jaar-48/
LOCATION:’t Harde\, Sportpark Schenk\, Bovenweg 8\, 't Harde\, Gelderland\, 8084 PB\, Nederland
CATEGORIES:Algemeen
ORGANIZER;CN="S.V. 't Harde":MAILTO:info@svtharde.nl
END:VEVENT
BEGIN:VEVENT
DTSTART;TZID=Europe/Amsterdam:20260402T200000
DTEND;TZID=Europe/Amsterdam:20260402T214500
DTSTAMP:20260423T012911
CREATED:20260315T182054Z
LAST-MODIFIED:20260315T182054Z
UID:70948-1775160000-1775166300@www.svtharde.nl
SUMMARY:S.V. ‘t Harde - Olympia ‘28 (oefen)
DESCRIPTION:
URL:https://www.svtharde.nl/evenement/s-v-t-harde-olympia-28-oefen/
LOCATION:’t Harde\, Sportpark Schenk\, Bovenweg 8\, 't Harde\, Gelderland\, 8084 PB\, Nederland
CATEGORIES:1e elftal
ORGANIZER;CN="S.V. 't Harde":MAILTO:info@svtharde.nl
END:VEVENT
BEGIN:VEVENT
DTSTART;TZID=Europe/Amsterdam:20260402T194500
DTEND;TZID=Europe/Amsterdam:20260402T223000
DTSTAMP:20260423T012911
CREATED:20250614T075507Z
LAST-MODIFIED:20250614T075507Z
UID:68326-1775159100-1775169000@www.svtharde.nl
SUMMARY:Klaverjassen
DESCRIPTION:Klaverjassen in de gezellige kantine aan de Bovenweg 8 in ’t Harde.Aanvang 19:45 uur.Nieuwe leden zijn ook dan weer van harte welkom.Nadere inlichtingen bij Peter van der Burg tel. 06 11300750 of Gert Drost tel. 038 8506316.
URL:https://www.svtharde.nl/evenement/klaverjassen-122/
LOCATION:’t Harde\, Sportpark Schenk\, Bovenweg 8\, 't Harde\, Gelderland\, 8084 PB\, Nederland
CATEGORIES:Klaverjassen
ORGANIZER;CN="Klaverjasclub S.V. 't Harde":MAILTO:klaverjasvereniging@svtharde.nl
END:VEVENT
BEGIN:VEVENT
DTSTART;TZID=Europe/Amsterdam:20260402T100000
DTEND;TZID=Europe/Amsterdam:20260402T110000
DTSTAMP:20260423T012911
CREATED:20250614T091143Z
LAST-MODIFIED:20250614T091143Z
UID:68479-1775124000-1775127600@www.svtharde.nl
SUMMARY:Walking Football
DESCRIPTION:
URL:https://www.svtharde.nl/evenement/walking-football-47/
LOCATION:’t Harde\, Sportpark Schenk\, Bovenweg 8\, 't Harde\, Gelderland\, 8084 PB\, Nederland
CATEGORIES:Algemeen
ORGANIZER;CN="S.V. 't Harde":MAILTO:info@svtharde.nl
END:VEVENT
BEGIN:VEVENT
DTSTART;TZID=Europe/Amsterdam:20260328T143000
DTEND;TZID=Europe/Amsterdam:20260328T161500
DTSTAMP:20260423T012911
CREATED:20250614T083951Z
LAST-MODIFIED:20250820T130700Z
UID:68396-1774708200-1774714500@www.svtharde.nl
SUMMARY:OWIOS - SV 't Harde (competitie)
DESCRIPTION:competitieronde 20
URL:https://www.svtharde.nl/evenement/sv-t-harde-xxx-competitie-42/
LOCATION:OWIOS\, Sportpark Bovenmolen\, Bovenheigraaf 19\, Oldebroek\, 8096 PJ\, Nederland
CATEGORIES:1e elftal
ATTACH;FMTTYPE=image/jpeg:https://www.svtharde.nl/wp-content/uploads/2021/08/owios.jpg
END:VEVENT
BEGIN:VEVENT
DTSTART;TZID=Europe/Amsterdam:20260328T100000
DTEND;TZID=Europe/Amsterdam:20260328T110000
DTSTAMP:20260423T012911
CREATED:20250614T090909Z
LAST-MODIFIED:20251204T065315Z
UID:68441-1774692000-1774695600@www.svtharde.nl
SUMMARY:Voetbalschool 4-7 jaar
DESCRIPTION:
URL:https://www.svtharde.nl/evenement/voetbalschool-3-7-jaar-47/
LOCATION:’t Harde\, Sportpark Schenk\, Bovenweg 8\, 't Harde\, Gelderland\, 8084 PB\, Nederland
CATEGORIES:Algemeen
ORGANIZER;CN="S.V. 't Harde":MAILTO:info@svtharde.nl
END:VEVENT
BEGIN:VEVENT
DTSTART;TZID=Europe/Amsterdam:20260328T093000
DTEND;TZID=Europe/Amsterdam:20260328T110000
DTSTAMP:20260423T012911
CREATED:20260312T064631Z
LAST-MODIFIED:20260312T064631Z
UID:70912-1774690200-1774695600@www.svtharde.nl
SUMMARY:Paasactiviteit (voetbalschool\, JO 7 t/m 9)
DESCRIPTION:
URL:https://www.svtharde.nl/evenement/paasactiviteit-voetbalschool-jo-7-t-m-9/
LOCATION:’t Harde\, Sportpark Schenk\, Bovenweg 8\, 't Harde\, Gelderland\, 8084 PB\, Nederland
CATEGORIES:Feest
ORGANIZER;CN="S.V. 't Harde":MAILTO:info@svtharde.nl
END:VEVENT
BEGIN:VEVENT
DTSTART;TZID=Europe/Amsterdam:20260327T190000
DTEND;TZID=Europe/Amsterdam:20260327T230000
DTSTAMP:20260423T012911
CREATED:20250614T082520Z
LAST-MODIFIED:20250614T082520Z
UID:68369-1774638000-1774652400@www.svtharde.nl
SUMMARY:Vrijdagavond-voetbal 7x7\, voorjaar speelronde 2
DESCRIPTION:
URL:https://www.svtharde.nl/evenement/vrijdagavond-voetbal-7x7-voorjaar-speelronde-2/
LOCATION:’t Harde\, Sportpark Schenk\, Bovenweg 8\, 't Harde\, Gelderland\, 8084 PB\, Nederland
CATEGORIES:Competitiewedstrijd
END:VEVENT
BEGIN:VEVENT
DTSTART;TZID=Europe/Amsterdam:20260326T194500
DTEND;TZID=Europe/Amsterdam:20260326T223000
DTSTAMP:20260423T012911
CREATED:20250614T075507Z
LAST-MODIFIED:20250614T075507Z
UID:68325-1774554300-1774564200@www.svtharde.nl
SUMMARY:Klaverjassen
DESCRIPTION:Klaverjassen in de gezellige kantine aan de Bovenweg 8 in ’t Harde.Aanvang 19:45 uur.Nieuwe leden zijn ook dan weer van harte welkom.Nadere inlichtingen bij Peter van der Burg tel. 06 11300750 of Gert Drost tel. 038 8506316.
URL:https://www.svtharde.nl/evenement/klaverjassen-121/
LOCATION:’t Harde\, Sportpark Schenk\, Bovenweg 8\, 't Harde\, Gelderland\, 8084 PB\, Nederland
CATEGORIES:Klaverjassen
ORGANIZER;CN="Klaverjasclub S.V. 't Harde":MAILTO:klaverjasvereniging@svtharde.nl
END:VEVENT
BEGIN:VEVENT
DTSTART;TZID=Europe/Amsterdam:20260326T100000
DTEND;TZID=Europe/Amsterdam:20260326T110000
DTSTAMP:20260423T012911
CREATED:20250614T091143Z
LAST-MODIFIED:20250614T091143Z
UID:68478-1774519200-1774522800@www.svtharde.nl
SUMMARY:Walking Football
DESCRIPTION:
URL:https://www.svtharde.nl/evenement/walking-football-46/
LOCATION:’t Harde\, Sportpark Schenk\, Bovenweg 8\, 't Harde\, Gelderland\, 8084 PB\, Nederland
CATEGORIES:Algemeen
ORGANIZER;CN="S.V. 't Harde":MAILTO:info@svtharde.nl
END:VEVENT
END:VCALENDAR