BEGIN:VCALENDAR
VERSION:2.0
PRODID:-//S.V. 't Harde - ECPv6.15.20//NONSGML v1.0//EN
CALSCALE:GREGORIAN
METHOD:PUBLISH
X-WR-CALNAME:S.V. 't Harde
X-ORIGINAL-URL:https://www.svtharde.nl
X-WR-CALDESC:Evenementen voor S.V. 't Harde
REFRESH-INTERVAL;VALUE=DURATION:PT1H
X-Robots-Tag:noindex
X-PUBLISHED-TTL:PT1H
BEGIN:VTIMEZONE
TZID:Europe/Amsterdam
BEGIN:DAYLIGHT
TZOFFSETFROM:+0100
TZOFFSETTO:+0200
TZNAME:CEST
DTSTART:20250330T010000
END:DAYLIGHT
BEGIN:STANDARD
TZOFFSETFROM:+0200
TZOFFSETTO:+0100
TZNAME:CET
DTSTART:20251026T010000
END:STANDARD
BEGIN:DAYLIGHT
TZOFFSETFROM:+0100
TZOFFSETTO:+0200
TZNAME:CEST
DTSTART:20260329T010000
END:DAYLIGHT
BEGIN:STANDARD
TZOFFSETFROM:+0200
TZOFFSETTO:+0100
TZNAME:CET
DTSTART:20261025T010000
END:STANDARD
BEGIN:DAYLIGHT
TZOFFSETFROM:+0100
TZOFFSETTO:+0200
TZNAME:CEST
DTSTART:20270328T010000
END:DAYLIGHT
BEGIN:STANDARD
TZOFFSETFROM:+0200
TZOFFSETTO:+0100
TZNAME:CET
DTSTART:20271031T010000
END:STANDARD
END:VTIMEZONE
BEGIN:VEVENT
DTSTART;TZID=Europe/Amsterdam:20260516T100000
DTEND;TZID=Europe/Amsterdam:20260516T110000
DTSTAMP:20260423T003134
CREATED:20250614T090913Z
LAST-MODIFIED:20251204T065240Z
UID:68448-1778925600-1778929200@www.svtharde.nl
SUMMARY:Voetbalschool 4-7 jaar
DESCRIPTION:
URL:https://www.svtharde.nl/evenement/voetbalschool-3-7-jaar-54/
LOCATION:’t Harde\, Sportpark Schenk\, Bovenweg 8\, 't Harde\, Gelderland\, 8084 PB\, Nederland
CATEGORIES:Algemeen
ORGANIZER;CN="S.V. 't Harde":MAILTO:info@svtharde.nl
END:VEVENT
BEGIN:VEVENT
DTSTART;TZID=Europe/Amsterdam:20260521T100000
DTEND;TZID=Europe/Amsterdam:20260521T110000
DTSTAMP:20260423T003134
CREATED:20250614T091146Z
LAST-MODIFIED:20250614T091146Z
UID:68486-1779357600-1779361200@www.svtharde.nl
SUMMARY:Walking Football
DESCRIPTION:
URL:https://www.svtharde.nl/evenement/walking-football-54/
LOCATION:’t Harde\, Sportpark Schenk\, Bovenweg 8\, 't Harde\, Gelderland\, 8084 PB\, Nederland
CATEGORIES:Algemeen
ORGANIZER;CN="S.V. 't Harde":MAILTO:info@svtharde.nl
END:VEVENT
BEGIN:VEVENT
DTSTART;TZID=Europe/Amsterdam:20260523T100000
DTEND;TZID=Europe/Amsterdam:20260523T110000
DTSTAMP:20260423T003134
CREATED:20250614T090913Z
LAST-MODIFIED:20251204T065236Z
UID:68449-1779530400-1779534000@www.svtharde.nl
SUMMARY:Voetbalschool 4-7 jaar
DESCRIPTION:
URL:https://www.svtharde.nl/evenement/voetbalschool-3-7-jaar-55/
LOCATION:’t Harde\, Sportpark Schenk\, Bovenweg 8\, 't Harde\, Gelderland\, 8084 PB\, Nederland
CATEGORIES:Algemeen
ORGANIZER;CN="S.V. 't Harde":MAILTO:info@svtharde.nl
END:VEVENT
BEGIN:VEVENT
DTSTART;TZID=Europe/Amsterdam:20260528T100000
DTEND;TZID=Europe/Amsterdam:20260528T110000
DTSTAMP:20260423T003134
CREATED:20250614T091148Z
LAST-MODIFIED:20250614T091148Z
UID:68487-1779962400-1779966000@www.svtharde.nl
SUMMARY:Walking Football
DESCRIPTION:
URL:https://www.svtharde.nl/evenement/walking-football-55/
LOCATION:’t Harde\, Sportpark Schenk\, Bovenweg 8\, 't Harde\, Gelderland\, 8084 PB\, Nederland
CATEGORIES:Algemeen
ORGANIZER;CN="S.V. 't Harde":MAILTO:info@svtharde.nl
END:VEVENT
BEGIN:VEVENT
DTSTART;TZID=Europe/Amsterdam:20260530T100000
DTEND;TZID=Europe/Amsterdam:20260530T110000
DTSTAMP:20260423T003134
CREATED:20250614T090915Z
LAST-MODIFIED:20251204T065231Z
UID:68450-1780135200-1780138800@www.svtharde.nl
SUMMARY:Voetbalschool 4-7 jaar
DESCRIPTION:
URL:https://www.svtharde.nl/evenement/voetbalschool-3-7-jaar-56/
LOCATION:’t Harde\, Sportpark Schenk\, Bovenweg 8\, 't Harde\, Gelderland\, 8084 PB\, Nederland
CATEGORIES:Algemeen
ORGANIZER;CN="S.V. 't Harde":MAILTO:info@svtharde.nl
END:VEVENT
BEGIN:VEVENT
DTSTART;TZID=Europe/Amsterdam:20260606T100000
DTEND;TZID=Europe/Amsterdam:20260606T110000
DTSTAMP:20260423T003134
CREATED:20250614T090915Z
LAST-MODIFIED:20251204T065227Z
UID:68451-1780740000-1780743600@www.svtharde.nl
SUMMARY:Voetbalschool 4-7 jaar
DESCRIPTION:
URL:https://www.svtharde.nl/evenement/voetbalschool-3-7-jaar-57/
LOCATION:’t Harde\, Sportpark Schenk\, Bovenweg 8\, 't Harde\, Gelderland\, 8084 PB\, Nederland
CATEGORIES:Algemeen
ORGANIZER;CN="S.V. 't Harde":MAILTO:info@svtharde.nl
END:VEVENT
BEGIN:VEVENT
DTSTART;TZID=Europe/Amsterdam:20260613T100000
DTEND;TZID=Europe/Amsterdam:20260613T110000
DTSTAMP:20260423T003134
CREATED:20250614T090915Z
LAST-MODIFIED:20251204T064338Z
UID:68452-1781344800-1781348400@www.svtharde.nl
SUMMARY:Voetbalschool 4-7 jaar
DESCRIPTION:
URL:https://www.svtharde.nl/evenement/voetbalschool-3-7-jaar-58/
LOCATION:’t Harde\, Sportpark Schenk\, Bovenweg 8\, 't Harde\, Gelderland\, 8084 PB\, Nederland
CATEGORIES:Algemeen
ORGANIZER;CN="S.V. 't Harde":MAILTO:info@svtharde.nl
END:VEVENT
END:VCALENDAR